BEGIN:VCALENDAR
PRODID:-//eluceo/ical//2.0/EN
VERSION:2.0
CALSCALE:GREGORIAN
BEGIN:VEVENT
UID:9b68d5eee50d22ff8ed60a5c20358826
DTSTAMP:20260423T114056Z
SUMMARY:Comment financer l'offre de logements abordables dans l'Union europ
 éenne ?
DESCRIPTION:Le financement du logement abordable selon la Fédération Hypo
 thécaire Européenne
DTSTART;VALUE=DATE:20190916
END:VEVENT
END:VCALENDAR
