BEGIN:VCALENDAR
PRODID:-//eluceo/ical//2.0/EN
VERSION:2.0
CALSCALE:GREGORIAN
BEGIN:VEVENT
UID:345f29faf1074eba47cb204dae889a5b
DTSTAMP:20260422T001211Z
SUMMARY:"La restructuration du modèle du logement social doit être condui
 te en conformité avec le droit européen"
DESCRIPTION:Extrait du rapport de l'Assemblée Nationale sur le PLF2019 - v
 olet "Logement et hébergement d'urgence" par François Jolivet
DTSTART;VALUE=DATE:20181108
END:VEVENT
END:VCALENDAR
