BEGIN:VCALENDAR
PRODID:-//eluceo/ical//2.0/EN
VERSION:2.0
CALSCALE:GREGORIAN
BEGIN:VEVENT
UID:6a2a6d5afde53a405754ba32e67fc8e3
DTSTAMP:20260425T144743Z
SUMMARY:Inscrire le logement social dans les politiques de l'Union europée
 nne
DESCRIPTION:L'Europe investit désormais dans le logement social\, que ce s
 oit au titre de sa politique de cohésion\, de lutte contre le changement 
 climatique\, de soutien aux investissements stratégiques notamment en mat
 ière d'infrastructures sociales. Subventions FEDER et prêts et garanties
  de la Banque européenne d'investissement sont désormais accessibles aux
  organismes d'HLM. Quelles perspectives de leur utilisation en France ?
DTSTART;VALUE=DATE:20180927
END:VEVENT
END:VCALENDAR
