BEGIN:VCALENDAR
PRODID:-//eluceo/ical//2.0/EN
VERSION:2.0
CALSCALE:GREGORIAN
BEGIN:VEVENT
UID:0af26e0fbeb1ff2d85ee89cfd464c7af
DTSTAMP:20260425T153633Z
SUMMARY:L'Europe investit dans votre logement social
DESCRIPTION:Cohésion post 2020\, Plan Juncker 2 "InvestEU"\, quelles persp
 ectives pour les organismes d'HLM ? Congrès HLM de Marseille\, Parvis d'A
 ctualités-Habitat\, le 9 octobre à 15h00 en présence de la Commission e
 uropéenne et de la Banque Européenne d'Investissement.
DTSTART;VALUE=DATE:20181009
END:VEVENT
END:VCALENDAR
