BEGIN:VCALENDAR
PRODID:-//eluceo/ical//2.0/EN
VERSION:2.0
CALSCALE:GREGORIAN
BEGIN:VEVENT
UID:de8f31f90a6258fec2f5faedeb9d8da1
DTSTAMP:20260422T180447Z
SUMMARY:Energiesprong médaillé d'or des Prix Mondiaux de l'Habitat
DESCRIPTION:RAYONNEMENT INTERNATIONAL - HLM\n\nLa Médaille d’or des Prix
  Mondiaux de l’Habitat World Habitat de UN-Habitat (United Nations Human
  Settlements Programme) pour 2024 vient d'être attribuée au mouvement Eu
 ropéen de coopération Energiesprong. C’est la première fois depuis 19
 86\, date de création de cette récompense mondiale\, qu’une initiative
  déployée en France avec la mobilisation des organismes HLM est lauréat
 e de ce prix mondial.
DTSTART;VALUE=DATE:20240121
END:VEVENT
END:VCALENDAR
