BEGIN:VCALENDAR
PRODID:-//eluceo/ical//2.0/EN
VERSION:2.0
CALSCALE:GREGORIAN
BEGIN:VEVENT
UID:3163803f39574316882915a71d7e9578
DTSTAMP:20260423T072018Z
SUMMARY:"Next Social and Affordable Housing EU" : programme 2024
DESCRIPTION:2024 - A vos agenda pour boucler les dates des évènements pha
 res / logement dans la perspective des Européennes (9 juin)
DTSTART;VALUE=DATE:20231227
END:VEVENT
END:VCALENDAR
