BEGIN:VCALENDAR
PRODID:-//eluceo/ical//2.0/EN
VERSION:2.0
CALSCALE:GREGORIAN
BEGIN:VEVENT
UID:5ebb28f1062108069553503f0f9a493c
DTSTAMP:20260422T175151Z
SUMMARY:SIEG logement social     Evaluation Décision 2012/21/UE     Docume
 nt de travail DG COMP
DESCRIPTION:Décision 2012/21/UE : Evaluation - Staff Working Document du 0
 1/12/22 - chapitre consacré au SIEG logement social - notre traduction en
  version FR
DTSTART;VALUE=DATE:20221212
END:VEVENT
END:VCALENDAR
