BEGIN:VCALENDAR
PRODID:-//eluceo/ical//2.0/EN
VERSION:2.0
CALSCALE:GREGORIAN
BEGIN:VEVENT
UID:3b4cb437b54d9b9eaf1d4078a1933aa6
DTSTAMP:20260422T180509Z
SUMMARY:Logement abordable et investissements européens
DESCRIPTION:Discours du Commissaire Schmit - 23 février 2021\nEuropean Pol
 icy Center - Bruxelles
DTSTART;VALUE=DATE:20210302
END:VEVENT
END:VCALENDAR
