BEGIN:VCALENDAR
PRODID:-//eluceo/ical//2.0/EN
VERSION:2.0
CALSCALE:GREGORIAN
BEGIN:VEVENT
UID:8bc56e3d97ece6f62b0ce8728a5b93fe
DTSTAMP:20260423T114632Z
SUMMARY:Une alliance européenne pour un logement social durable et inclusi
 f
DESCRIPTION:L’alliance européenne pour un logement social durable et inc
 lusif lance une première vague de 650 millions d’euros de financements 
 de long terme.
DTSTART;VALUE=DATE:20210202
END:VEVENT
END:VCALENDAR
