BEGIN:VCALENDAR
PRODID:-//eluceo/ical//2.0/EN
VERSION:2.0
CALSCALE:GREGORIAN
BEGIN:VEVENT
UID:13f952312dbe5a7ccc1df577da62143a
DTSTAMP:20260423T134956Z
SUMMARY:Décodeur HLM du Plan de relance UE de la vague de rénovations du 
 Green Deal
DESCRIPTION:Slides des intervenants + Décodeur HLM
DTSTART;VALUE=DATE:20201207
END:VEVENT
END:VCALENDAR
