BEGIN:VCALENDAR
PRODID:-//eluceo/ical//2.0/EN
VERSION:2.0
CALSCALE:GREGORIAN
BEGIN:VEVENT
UID:7200116393d34a30d2cb22f181016516
DTSTAMP:20260423T164411Z
SUMMARY:Le logement social acteur de la vague de rénovations des bâtiment
 s dans l'UE
DESCRIPTION:Le logement social dans la "vague de rénovations" de la Commis
 sion européenne
DTSTART;VALUE=DATE:20201030
END:VEVENT
END:VCALENDAR
