BEGIN:VCALENDAR
PRODID:-//eluceo/ical//2.0/EN
VERSION:2.0
CALSCALE:GREGORIAN
BEGIN:VEVENT
UID:a259ba8465f17f762851097459dcfd1d
DTSTAMP:20260423T120941Z
SUMMARY:Déclencher une vague de rénovations des bâtiments
DESCRIPTION:Reconfinement : prenez le temps de lire et de partager cette Co
 mmunication de la Commission européenne et ce Rapport du Parlement europ
 éen.
DTSTART;VALUE=DATE:20201024
END:VEVENT
END:VCALENDAR
