BEGIN:VCALENDAR
PRODID:-//eluceo/ical//2.0/EN
VERSION:2.0
CALSCALE:GREGORIAN
BEGIN:VEVENT
UID:94e08530f64addc05af47a667fe25e1f
DTSTAMP:20260425T102811Z
SUMMARY:Plan de relance UE : notre Décodeur HLM
DESCRIPTION:Fonds de transition juste\, ReactEU\, InvestEU\, HorizonEurope.
 .. quels volets Logement du plan de relance UE ?
DTSTART;VALUE=DATE:20190916
END:VEVENT
END:VCALENDAR
