BEGIN:VCALENDAR
PRODID:-//eluceo/ical//2.0/EN
VERSION:2.0
CALSCALE:GREGORIAN
BEGIN:VEVENT
UID:0f4c849756471ce176c575f46eee2bae
DTSTAMP:20260423T114958Z
SUMMARY:Green Deal : notre contribution à la "vague" de rénovation des b
 âtiments
DESCRIPTION:La Commission européenne s’est donnée comme objectif de per
 mettre à l’Union européenne de devenir neutre en carbone d’ici 2050.
  Afin de concrétiser cette ambition\, elle a adopté une feuille de route
 \, le Pacte vert européen\, qui concerne différents domaines comme l’
 énergie\, l’industrie durable\, l’agriculture\, la mobilité\, la pol
 lution\, l’économie circulaire et la construction et la rénovation. Co
 ncernant ce dernier thème\, qui intéresse directement le secteur du loge
 ment social\, la Commission proposera une « Vague de rénovation »\, qui
  sera précisé en septembre 2020.
DTSTART;VALUE=DATE:20200626
END:VEVENT
END:VCALENDAR
