BEGIN:VCALENDAR
PRODID:-//eluceo/ical//2.0/EN
VERSION:2.0
CALSCALE:GREGORIAN
BEGIN:VEVENT
UID:8cd0178065bb5d75dfda90bd9d02745d
DTSTAMP:20260423T120146Z
SUMMARY:Green Deal de la nouvelle Commission Von der Leyen : vers "d'import
 ants projets de rénovation pour les locataires de logements sociaux"
DESCRIPTION:Etablir des plans de financement équitables en coopération av
 ec la Banque européenne d’investissement et InvestEU
DTSTART;VALUE=DATE:20191011
END:VEVENT
END:VCALENDAR
